BEGIN:VCALENDAR
VERSION:2.0
PRODID:-//Department Of Education//e51dff85-b581-4e48-abd8-1b79bf957868
BEGIN:VTIMEZONE
TZID:Australia/Sydney
TZURL:http://tzurl.org/zoneinfo-outlook/Australia/Sydney
X-LIC-LOCATION:Australia/Sydney
BEGIN:STANDARD
TZOFFSETFROM:+1100
TZOFFSETTO:+1000
TZNAME:AEST
DTSTART:19700405T030000
RRULE:FREQ=YEARLY;BYMONTH=4;BYDAY=1SU
END:STANDARD
BEGIN:DAYLIGHT
TZOFFSETFROM:+1000
TZOFFSETTO:+1100
TZNAME:AEDT
DTSTART:19701004T020000
RRULE:FREQ=YEARLY;BYMONTH=10;BYDAY=1SU
END:DAYLIGHT
END:VTIMEZONE
CALSCALE:GREGORIAN
X-WR-TIMEZONE:Australia/Sydney
BEGIN:VEVENT
DTSTART;VALUE=DATE:20200305
DTEND;VALUE=DATE:20200306
DTSTAMP:20200305T000000Z
UID:337097e7-c36b-41e3-a946-288e220f2b6a
LOCATION:Riverside Theatre, Parramatta
SUMMARY;LANGUAGE=en-us:Year 2 excursion
SEQUENCE:0
DESCRIPTION:On Thursday 5 March, Year 2 students will be attending the musical production, 'The Graffalo's Child' at the Riverside Theatre, Parramatta.
END:VEVENT
TRANSP:TRANSPARENT
END:VCALENDAR
