BEGIN:VCALENDAR
VERSION:2.0
PRODID:-//Department Of Education//390052f7-7805-4da9-9095-df3d19f3fd6f
BEGIN:VTIMEZONE
TZID:Australia/Sydney
TZURL:http://tzurl.org/zoneinfo-outlook/Australia/Sydney
X-LIC-LOCATION:Australia/Sydney
BEGIN:STANDARD
TZOFFSETFROM:+1100
TZOFFSETTO:+1000
TZNAME:AEST
DTSTART:19700405T030000
RRULE:FREQ=YEARLY;BYMONTH=4;BYDAY=1SU
END:STANDARD
BEGIN:DAYLIGHT
TZOFFSETFROM:+1000
TZOFFSETTO:+1100
TZNAME:AEDT
DTSTART:19701004T020000
RRULE:FREQ=YEARLY;BYMONTH=10;BYDAY=1SU
END:DAYLIGHT
END:VTIMEZONE
CALSCALE:GREGORIAN
X-WR-TIMEZONE:Australia/Sydney
BEGIN:VEVENT
DTSTART;VALUE=DATE:20200330
DTEND;VALUE=DATE:20200402
DTSTAMP:20200330T000000Z
UID:f1257758-4ffb-496b-aa5f-8cd0eb6e338f
LOCATION:Sydney Academy of Sports and Recreation, Wakehurst Parkway, Narrabean
SUMMARY;LANGUAGE=en-us:Stage 3 Camp
SEQUENCE:0
DESCRIPTION:Stage 3 camp for 2020 will take place at Sport and Recreation Camp at Narrabeen from Monday 30 March to Wednesday 1 April.
END:VEVENT
TRANSP:TRANSPARENT
END:VCALENDAR
