BEGIN:VCALENDAR
VERSION:2.0
PRODID:-//Department Of Education//a665a3fe-ab05-401d-8313-ab18e60cc70a
BEGIN:VTIMEZONE
TZID:Australia/Sydney
TZURL:http://tzurl.org/zoneinfo-outlook/Australia/Sydney
X-LIC-LOCATION:Australia/Sydney
BEGIN:STANDARD
TZOFFSETFROM:+1100
TZOFFSETTO:+1000
TZNAME:AEST
DTSTART:19700405T030000
RRULE:FREQ=YEARLY;BYMONTH=4;BYDAY=1SU
END:STANDARD
BEGIN:DAYLIGHT
TZOFFSETFROM:+1000
TZOFFSETTO:+1100
TZNAME:AEDT
DTSTART:19701004T020000
RRULE:FREQ=YEARLY;BYMONTH=10;BYDAY=1SU
END:DAYLIGHT
END:VTIMEZONE
CALSCALE:GREGORIAN
X-WR-TIMEZONE:Australia/Sydney
BEGIN:VEVENT
DTSTART;VALUE=DATE:20200227
DTEND;VALUE=DATE:20200228
DTSTAMP:20200227T000000Z
UID:3f6e6f6d-c9dd-4d0f-92fc-e58347732926
LOCATION:Ryde Aquatic Leisure Centre
SUMMARY;LANGUAGE=en-us:Swimming Carnival
SEQUENCE:0
DESCRIPTION:Annaual Swimming carnival will be held at Ryde Aquatic Leisure Centre on Thursday 27 February. 
END:VEVENT
TRANSP:TRANSPARENT
END:VCALENDAR
